BEGIN:VCALENDAR
VERSION:2.0
PRODID:-//80.74.143.76//NONSGML kigkonsult.se iCalcreator 2.20//
CALSCALE:GREGORIAN
METHOD:PUBLISH
X-WR-TIMEZONE:Europe/Amsterdam
BEGIN:VEVENT
UID:event841@Schützenverein Pfungen
DTSTAMP:20260419T164600Z
CATEGORIES:Jungschützen
DESCRIPTION:Waffenreinigung\nKategorie: Jungschützen\nICS-Link: https://svp
 fungen.ch/index.php?option=com_jem&view=event&id=841:waffenreinigung\n
DTSTART:20261017T100000
DTEND:20261017T140000
LOCATION:Schützenhaus Pfungen\,Grabistrasse\,8422 Pfungen
SUMMARY:Waffenreinigung
URL:https://svpfungen.ch/index.php?option=com_jem&view=event&id=841:waffenr
 einigung
END:VEVENT
END:VCALENDAR
