BEGIN:VCALENDAR
VERSION:2.0
PRODID:-//80.74.143.76//NONSGML kigkonsult.se iCalcreator 2.20//
CALSCALE:GREGORIAN
METHOD:PUBLISH
X-WR-TIMEZONE:Europe/Amsterdam
BEGIN:VEVENT
UID:event97@Schützenverein Pfungen
DTSTAMP:20260419T191724Z
CATEGORIES:Schützenverein\, Jungschützen
DESCRIPTION:Feldschiessen\nKategorie: Schützenverein\, Jungschützen\nICS-Li
 nk: https://svpfungen.ch/index.php?option=com_jem&view=event&id=97:feldsch
 iessen\n
DTSTART:20180610T083000
DTEND:20180610T120000
LOCATION:Schützenhaus Pfungen\,Grabistrasse\,8422 Pfungen
SUMMARY:Feldschiessen
URL:https://svpfungen.ch/index.php?option=com_jem&view=event&id=97:feldschi
 essen
END:VEVENT
END:VCALENDAR
