BEGIN:VCALENDAR
VERSION:2.0
PRODID:-//80.74.143.76//NONSGML kigkonsult.se iCalcreator 2.20//
CALSCALE:GREGORIAN
METHOD:PUBLISH
X-WR-TIMEZONE:Europe/Amsterdam
BEGIN:VEVENT
UID:event94@Schützenverein Pfungen
DTSTAMP:20260419T191935Z
CATEGORIES:Schützenverein\, Jungschützen
DESCRIPTION:Vorschiessen Feldschiessen\nKategorie: Schützenverein\, Jungsch
 ützen\nICS-Link: https://svpfungen.ch/index.php?option=com_jem&view=event&
 id=94:vorschiessen-feldschiessen\n
DTSTART:20180525T170000
DTEND:20180525T200000
LOCATION:Schützenhaus Pfungen\,Grabistrasse\,8422 Pfungen
SUMMARY:Vorschiessen Feldschiessen
URL:https://svpfungen.ch/index.php?option=com_jem&view=event&id=94:vorschie
 ssen-feldschiessen
END:VEVENT
END:VCALENDAR
