BEGIN:VCALENDAR
VERSION:2.0
PRODID:-//80.74.143.76//NONSGML kigkonsult.se iCalcreator 2.20//
CALSCALE:GREGORIAN
METHOD:PUBLISH
X-WR-TIMEZONE:Europe/Amsterdam
BEGIN:VEVENT
UID:event93@Schützenverein Pfungen
DTSTAMP:20260419T191440Z
CATEGORIES:Schützenverein\, Jungschützen
DESCRIPTION:3. Oblig. Bundesprogramm\nKategorie: Schützenverein\, Jungschüt
 zen\nICS-Link: https://svpfungen.ch/index.php?option=com_jem&view=event&id
 =93:3-oblig-bundesprogramm\n
DTSTART:20180826T090000
DTEND:20180826T120000
LOCATION:Schützenhaus Pfungen\,Grabistrasse\,8422 Pfungen
SUMMARY:3. Oblig. Bundesprogramm
URL:https://svpfungen.ch/index.php?option=com_jem&view=event&id=93:3-oblig-
 bundesprogramm
END:VEVENT
END:VCALENDAR
