BEGIN:VCALENDAR
VERSION:2.0
PRODID:-//80.74.143.76//NONSGML kigkonsult.se iCalcreator 2.20//
CALSCALE:GREGORIAN
METHOD:PUBLISH
X-WR-TIMEZONE:Europe/Amsterdam
BEGIN:VEVENT
UID:event902@Schützenverein Pfungen
DTSTAMP:20260419T162717Z
CATEGORIES:Vermietung
DESCRIPTION:Belegt\nKategorie: Vermietung\nICS-Link: https://svpfungen.ch/i
 ndex.php?option=com_jem&view=event&id=902:belegt\n
DTSTART;VALUE=DATE:20261121
DTEND;VALUE=DATE:20261122
SUMMARY:Belegt
URL:https://svpfungen.ch/index.php?option=com_jem&view=event&id=902:belegt
END:VEVENT
END:VCALENDAR
