BEGIN:VCALENDAR
VERSION:2.0
PRODID:-//80.74.143.76//NONSGML kigkonsult.se iCalcreator 2.20//
CALSCALE:GREGORIAN
METHOD:PUBLISH
X-WR-TIMEZONE:Europe/Amsterdam
BEGIN:VEVENT
UID:event869@Schützenverein Pfungen
DTSTAMP:20260419T191724Z
CATEGORIES:Intern
DESCRIPTION:Belegt\nKategorie: Intern\nICS-Link: https://svpfungen.ch/index
 .php?option=com_jem&view=event&id=869:belegt\n
DTSTART;VALUE=DATE:20270219
DTEND;VALUE=DATE:20270220
SUMMARY:Belegt
URL:https://svpfungen.ch/index.php?option=com_jem&view=event&id=869:belegt
END:VEVENT
END:VCALENDAR
