BEGIN:VCALENDAR
VERSION:2.0
PRODID:-//80.74.143.76//NONSGML kigkonsult.se iCalcreator 2.20//
CALSCALE:GREGORIAN
METHOD:PUBLISH
X-WR-TIMEZONE:Europe/Amsterdam
BEGIN:VEVENT
UID:event81@Schützenverein Pfungen
DTSTAMP:20260419T191849Z
CATEGORIES:Schützenverein
DESCRIPTION:1. Schiessübung\nKategorie: Schützenverein\nICS-Link: https://s
 vpfungen.ch/index.php?option=com_jem&view=event&id=81:1-schiessuebung\n
DTSTART:20180324T133000
DTEND:20180324T160000
LOCATION:Schützenhaus Pfungen\,Grabistrasse\,8422 Pfungen
SUMMARY:1. Schiessübung
URL:https://svpfungen.ch/index.php?option=com_jem&view=event&id=81:1-schies
 suebung
END:VEVENT
END:VCALENDAR
