BEGIN:VCALENDAR
VERSION:2.0
PRODID:-//80.74.143.76//NONSGML kigkonsult.se iCalcreator 2.20//
CALSCALE:GREGORIAN
METHOD:PUBLISH
X-WR-TIMEZONE:Europe/Amsterdam
BEGIN:VEVENT
UID:event8@Schützenverein Pfungen
DTSTAMP:20260419T192006Z
CATEGORIES:Schützenverein
DESCRIPTION:2. Freiwillige Schiessübung\nKategorie: Schützenverein\nICS-Lin
 k: https://svpfungen.ch/index.php?option=com_jem&view=event&id=8:2-freiwil
 lige-schiessuebung\n
DTSTART:20160416T133000
DTEND:20160416T160000
LOCATION:Schützenhaus Pfungen\,Grabistrasse\,8422 Pfungen
SUMMARY:2. Freiwillige Schiessübung
URL:https://svpfungen.ch/index.php?option=com_jem&view=event&id=8:2-freiwil
 lige-schiessuebung
END:VEVENT
END:VCALENDAR
