BEGIN:VCALENDAR
VERSION:2.0
PRODID:-//80.74.143.76//NONSGML kigkonsult.se iCalcreator 2.20//
CALSCALE:GREGORIAN
METHOD:PUBLISH
X-WR-TIMEZONE:Europe/Amsterdam
BEGIN:VEVENT
UID:event67@Schützenverein Pfungen
DTSTAMP:20260419T191756Z
CATEGORIES:Jungschützen
DESCRIPTION:5. Schiesstag\nKategorie: Jungschützen\nICS-Link: https://svpfu
 ngen.ch/index.php?option=com_jem&view=event&id=67:5-schiesstag\n
DTSTART:20170712T180000
DTEND:20170712T200000
LOCATION:Schützenhaus Pfungen\,Grabistrasse\,8422 Pfungen
SUMMARY:5. Schiesstag
URL:https://svpfungen.ch/index.php?option=com_jem&view=event&id=67:5-schies
 stag
END:VEVENT
END:VCALENDAR
