BEGIN:VCALENDAR
VERSION:2.0
PRODID:-//80.74.143.76//NONSGML kigkonsult.se iCalcreator 2.20//
CALSCALE:GREGORIAN
METHOD:PUBLISH
X-WR-TIMEZONE:Europe/Amsterdam
BEGIN:VEVENT
UID:event63@Schützenverein Pfungen
DTSTAMP:20260419T191842Z
CATEGORIES:Jungschützen
DESCRIPTION:1. Schiesstag\nKategorie: Jungschützen\nICS-Link: https://svpfu
 ngen.ch/index.php?option=com_jem&view=event&id=63:1-schiesstag\n
DTSTART:20170422T133000
DTEND:20170422T160000
LOCATION:Schützenhaus Pfungen\,Grabistrasse\,8422 Pfungen
SUMMARY:1. Schiesstag
URL:https://svpfungen.ch/index.php?option=com_jem&view=event&id=63:1-schies
 stag
END:VEVENT
END:VCALENDAR
