BEGIN:VCALENDAR
VERSION:2.0
PRODID:-//80.74.143.76//NONSGML kigkonsult.se iCalcreator 2.20//
CALSCALE:GREGORIAN
METHOD:PUBLISH
X-WR-TIMEZONE:Europe/Amsterdam
BEGIN:VEVENT
UID:event60@Schützenverein Pfungen
DTSTAMP:20260419T190938Z
CATEGORIES:Schützenverein\, Jungschützen\, Diverse
DESCRIPTION:Absenden\nKategorie: Schützenverein\, Jungschützen\, Diverse\nI
 CS-Link: https://svpfungen.ch/index.php?option=com_jem&view=event&id=60:ab
 senden\n
DTSTART:20171104T190000
DTEND:20171104T190000
LOCATION:Schützenhaus Pfungen\,Grabistrasse\,8422 Pfungen
SUMMARY:Absenden
URL:https://svpfungen.ch/index.php?option=com_jem&view=event&id=60:absenden
END:VEVENT
END:VCALENDAR
