BEGIN:VCALENDAR
VERSION:2.0
PRODID:-//80.74.143.76//NONSGML kigkonsult.se iCalcreator 2.20//
CALSCALE:GREGORIAN
METHOD:PUBLISH
X-WR-TIMEZONE:Europe/Amsterdam
BEGIN:VEVENT
UID:event6@Schützenverein Pfungen
DTSTAMP:20260419T192052Z
CATEGORIES:Schützenverein
DESCRIPTION:1. Freiwillige Schiessübung\nKategorie: Schützenverein\nICS-Lin
 k: https://svpfungen.ch/index.php?option=com_jem&view=event&id=6:1-freiwil
 lige-schiessuebung\n
DTSTART:20160326T133000
DTEND:20160326T160000
LOCATION:Schützenhaus Pfungen\,Grabistrasse\,8422 Pfungen
SUMMARY:1. Freiwillige Schiessübung
URL:https://svpfungen.ch/index.php?option=com_jem&view=event&id=6:1-freiwil
 lige-schiessuebung
END:VEVENT
END:VCALENDAR
