BEGIN:VCALENDAR
VERSION:2.0
PRODID:-//80.74.143.76//NONSGML kigkonsult.se iCalcreator 2.20//
CALSCALE:GREGORIAN
METHOD:PUBLISH
X-WR-TIMEZONE:Europe/Amsterdam
BEGIN:VEVENT
UID:event57@Schützenverein Pfungen
DTSTAMP:20260419T192130Z
CATEGORIES:Schützenverein
DESCRIPTION:11. Freiwillige Schiessübung\nKategorie: Schützenverein\nICS-Li
 nk: https://svpfungen.ch/index.php?option=com_jem&view=event&id=57:11-frei
 willige-schiessuebung\n
DTSTART:20170916T133000
DTEND:20170916T160000
LOCATION:Schützenhaus Pfungen\,Grabistrasse\,8422 Pfungen
SUMMARY:11. Freiwillige Schiessübung
URL:https://svpfungen.ch/index.php?option=com_jem&view=event&id=57:11-freiw
 illige-schiessuebung
END:VEVENT
END:VCALENDAR
