BEGIN:VCALENDAR
VERSION:2.0
PRODID:-//80.74.143.76//NONSGML kigkonsult.se iCalcreator 2.20//
CALSCALE:GREGORIAN
METHOD:PUBLISH
X-WR-TIMEZONE:Europe/Amsterdam
BEGIN:VEVENT
UID:event54@Schützenverein Pfungen
DTSTAMP:20260419T192052Z
CATEGORIES:Schützenverein
DESCRIPTION:9. Freiwillige Schiessübung\nKategorie: Schützenverein\nICS-Lin
 k: https://svpfungen.ch/index.php?option=com_jem&view=event&id=54:9-freiwi
 llige-schiessuebung\n
DTSTART:20170809T180000
DTEND:20170809T200000
LOCATION:Schützenhaus Pfungen\,Grabistrasse\,8422 Pfungen
SUMMARY:9. Freiwillige Schiessübung
URL:https://svpfungen.ch/index.php?option=com_jem&view=event&id=54:9-freiwi
 llige-schiessuebung
END:VEVENT
END:VCALENDAR
