BEGIN:VCALENDAR
VERSION:2.0
PRODID:-//80.74.143.76//NONSGML kigkonsult.se iCalcreator 2.20//
CALSCALE:GREGORIAN
METHOD:PUBLISH
X-WR-TIMEZONE:Europe/Amsterdam
BEGIN:VEVENT
UID:event48@Schützenverein Pfungen
DTSTAMP:20260419T192208Z
CATEGORIES:Schützenverein
DESCRIPTION:4. Freiwillige Schiessübung\, Vorschiessen FS\nKategorie: Schüt
 zenverein\nICS-Link: https://svpfungen.ch/index.php?option=com_jem&view=ev
 ent&id=48:4-freiwillige-schiessuebung-vor-fs\n
DTSTART:20170510T180000
DTEND:20170510T200000
LOCATION:Schützenhaus Pfungen\,Grabistrasse\,8422 Pfungen
SUMMARY:4. Freiwillige Schiessübung\, Vorschiessen FS
URL:https://svpfungen.ch/index.php?option=com_jem&view=event&id=48:4-freiwi
 llige-schiessuebung-vor-fs
END:VEVENT
END:VCALENDAR
