BEGIN:VCALENDAR
VERSION:2.0
PRODID:-//80.74.143.76//NONSGML kigkonsult.se iCalcreator 2.20//
CALSCALE:GREGORIAN
METHOD:PUBLISH
X-WR-TIMEZONE:Europe/Amsterdam
BEGIN:VEVENT
UID:event47@Schützenverein Pfungen
DTSTAMP:20260419T192052Z
CATEGORIES:Schützenverein
DESCRIPTION:3. Freiwillige Schiessübung\nKategorie: Schützenverein\nICS-Lin
 k: https://svpfungen.ch/index.php?option=com_jem&view=event&id=47:3-freiwi
 llige-schiessuebung\n
DTSTART:20170422T133000
DTEND:20170422T160000
LOCATION:Schützenhaus Pfungen\,Grabistrasse\,8422 Pfungen
SUMMARY:3. Freiwillige Schiessübung
URL:https://svpfungen.ch/index.php?option=com_jem&view=event&id=47:3-freiwi
 llige-schiessuebung
END:VEVENT
END:VCALENDAR
