BEGIN:VCALENDAR
VERSION:2.0
PRODID:-//80.74.143.76//NONSGML kigkonsult.se iCalcreator 2.20//
CALSCALE:GREGORIAN
METHOD:PUBLISH
X-WR-TIMEZONE:Europe/Amsterdam
BEGIN:VEVENT
UID:event42@Schützenverein Pfungen
DTSTAMP:20260419T191740Z
CATEGORIES:Jungschützen
DESCRIPTION:1. Theorie\nKategorie: Jungschützen\nICS-Link: https://svpfunge
 n.ch/index.php?option=com_jem&view=event&id=42:1-theorie\n
DTSTART:20170315T190000
DTEND:20170315T210000
LOCATION:Schützenhaus Pfungen\,Grabistrasse\,8422 Pfungen
SUMMARY:1. Theorie
URL:https://svpfungen.ch/index.php?option=com_jem&view=event&id=42:1-theori
 e
END:VEVENT
END:VCALENDAR
