BEGIN:VCALENDAR
VERSION:2.0
PRODID:-//80.74.143.76//NONSGML kigkonsult.se iCalcreator 2.20//
CALSCALE:GREGORIAN
METHOD:PUBLISH
X-WR-TIMEZONE:Europe/Amsterdam
BEGIN:VEVENT
UID:event40@Schützenverein Pfungen
DTSTAMP:20260419T191713Z
CATEGORIES:Schützenverein\, Jungschützen
DESCRIPTION:Herbstversammlung\nKategorie: Schützenverein\, Jungschützen\nIC
 S-Link: https://svpfungen.ch/index.php?option=com_jem&view=event&id=40:her
 bstversammlung\n
DTSTART:20161027T200000
DTEND:20161027T200000
LOCATION:Schützenhaus Pfungen\,Grabistrasse\,8422 Pfungen
SUMMARY:Herbstversammlung
URL:https://svpfungen.ch/index.php?option=com_jem&view=event&id=40:herbstve
 rsammlung
END:VEVENT
END:VCALENDAR
