BEGIN:VCALENDAR
VERSION:2.0
PRODID:-//80.74.143.76//NONSGML kigkonsult.se iCalcreator 2.20//
CALSCALE:GREGORIAN
METHOD:PUBLISH
X-WR-TIMEZONE:Europe/Amsterdam
BEGIN:VEVENT
UID:event37@Schützenverein Pfungen
DTSTAMP:20260419T191600Z
CATEGORIES:Schützenverein\, Jungschützen\, Diverse
DESCRIPTION:Endschiessen\nKategorie: Schützenverein\, Jungschützen\, Divers
 e\nICS-Link: https://svpfungen.ch/index.php?option=com_jem&view=event&id=3
 7:endschiessen\n
DTSTART:20161001T130000
DTEND:20161001T170000
LOCATION:Schützenhaus Pfungen\,Grabistrasse\,8422 Pfungen
SUMMARY:Endschiessen
URL:https://svpfungen.ch/index.php?option=com_jem&view=event&id=37:endschie
 ssen
END:VEVENT
END:VCALENDAR
