BEGIN:VCALENDAR
VERSION:2.0
PRODID:-//80.74.143.76//NONSGML kigkonsult.se iCalcreator 2.20//
CALSCALE:GREGORIAN
METHOD:PUBLISH
X-WR-TIMEZONE:Europe/Amsterdam
BEGIN:VEVENT
UID:event3@Schützenverein Pfungen
DTSTAMP:20260419T191241Z
CATEGORIES:Schützenverein
DESCRIPTION:Generalversammlung\nKategorie: Schützenverein\nICS-Link: https:
 //svpfungen.ch/index.php?option=com_jem&view=event&id=3:generalversammlung
 \n
DTSTART:20160219T200000
DTEND:20160219T200000
LOCATION:Schützenhaus Pfungen\,Grabistrasse\,8422 Pfungen
SUMMARY:Generalversammlung
URL:https://svpfungen.ch/index.php?option=com_jem&view=event&id=3:generalve
 rsammlung
END:VEVENT
END:VCALENDAR
