BEGIN:VCALENDAR
VERSION:2.0
PRODID:-//80.74.143.76//NONSGML kigkonsult.se iCalcreator 2.20//
CALSCALE:GREGORIAN
METHOD:PUBLISH
X-WR-TIMEZONE:Europe/Amsterdam
BEGIN:VEVENT
UID:event28@Schützenverein Pfungen
DTSTAMP:20260419T192209Z
CATEGORIES:Schützenverein
DESCRIPTION:10. Freiwillige Schiessübung\nKategorie: Schützenverein\nICS-Li
 nk: https://svpfungen.ch/index.php?option=com_jem&view=event&id=28:10-frei
 willige-schiessuebung\n
DTSTART:20160907T180000
DTEND:20160907T200000
LOCATION:Schützenhaus Pfungen\,Grabistrasse\,8422 Pfungen
SUMMARY:10. Freiwillige Schiessübung
URL:https://svpfungen.ch/index.php?option=com_jem&view=event&id=28:10-freiw
 illige-schiessuebung
END:VEVENT
END:VCALENDAR
