BEGIN:VCALENDAR
VERSION:2.0
PRODID:-//80.74.143.76//NONSGML kigkonsult.se iCalcreator 2.20//
CALSCALE:GREGORIAN
METHOD:PUBLISH
X-WR-TIMEZONE:Europe/Amsterdam
BEGIN:VEVENT
UID:event22@Schützenverein Pfungen
DTSTAMP:20260419T192129Z
CATEGORIES:Schützenverein
DESCRIPTION:5. Freiwillige Schiessübung vor FS\nKategorie: Schützenverein\n
 ICS-Link: https://svpfungen.ch/index.php?option=com_jem&view=event&id=22:5
 -freiwillige-schiessuebung-vor-fs\n
DTSTART:20160521T133000
DTEND:20160521T160000
LOCATION:Schützenhaus Pfungen\,Grabistrasse\,8422 Pfungen
SUMMARY:5. Freiwillige Schiessübung vor FS
URL:https://svpfungen.ch/index.php?option=com_jem&view=event&id=22:5-freiwi
 llige-schiessuebung-vor-fs
END:VEVENT
END:VCALENDAR
