BEGIN:VCALENDAR
VERSION:2.0
PRODID:-//80.74.143.76//NONSGML kigkonsult.se iCalcreator 2.20//
CALSCALE:GREGORIAN
METHOD:PUBLISH
X-WR-TIMEZONE:Europe/Amsterdam
BEGIN:VEVENT
UID:event17@Schützenverein Pfungen
DTSTAMP:20260419T192214Z
CATEGORIES:Jungschützen
DESCRIPTION:Jungschützen Wettkampf\nKategorie: Jungschützen\nICS-Link: http
 s://svpfungen.ch/index.php?option=com_jem&view=event&id=17:jungschuetzen-w
 ettkampf\n
DTSTART:20160910T140000
DTEND:20160910T170000
LOCATION:Schützenhaus Pfungen\,Grabistrasse\,8422 Pfungen
SUMMARY:Jungschützen Wettkampf
URL:https://svpfungen.ch/index.php?option=com_jem&view=event&id=17:jungschu
 etzen-wettkampf
END:VEVENT
END:VCALENDAR
