BEGIN:VCALENDAR
VERSION:2.0
PRODID:-//80.74.143.76//NONSGML kigkonsult.se iCalcreator 2.20//
CALSCALE:GREGORIAN
METHOD:PUBLISH
X-WR-TIMEZONE:Europe/Amsterdam
BEGIN:VEVENT
UID:event134@Schützenverein Pfungen
DTSTAMP:20260419T191841Z
CATEGORIES:Schützenverein\, Jungschützen\, Diverse
DESCRIPTION:Bezirksschiessen\nKategorie: Schützenverein\, Jungschützen\, Di
 verse\nICS-Link: https://svpfungen.ch/index.php?option=com_jem&view=event&
 id=134:bezirksschiessen\n
DTSTART:20190628T170000
DTEND:20190628T200000
LOCATION:Schützenhaus Pfungen\,Grabistrasse\,8422 Pfungen
SUMMARY:Bezirksschiessen
URL:https://svpfungen.ch/index.php?option=com_jem&view=event&id=134:bezirks
 schiessen
END:VEVENT
END:VCALENDAR
