BEGIN:VCALENDAR
VERSION:2.0
PRODID:-//80.74.143.76//NONSGML kigkonsult.se iCalcreator 2.20//
CALSCALE:GREGORIAN
METHOD:PUBLISH
X-WR-TIMEZONE:Europe/Amsterdam
BEGIN:VEVENT
UID:event129@Schützenverein Pfungen
DTSTAMP:20260419T191611Z
CATEGORIES:Schützenverein\, Jungschützen
DESCRIPTION:1. Oblig. Bundesprogramm\nKategorie: Schützenverein\, Jungschüt
 zen\nICS-Link: https://svpfungen.ch/index.php?option=com_jem&view=event&id
 =129:1-oblig-bundesprogramm\n
DTSTART:20190413T133000
DTEND:20190413T160000
LOCATION:Schützenhaus Pfungen\,Grabistrasse\,8422 Pfungen
SUMMARY:1. Oblig. Bundesprogramm
URL:https://svpfungen.ch/index.php?option=com_jem&view=event&id=129:1-oblig
 -bundesprogramm
END:VEVENT
END:VCALENDAR
