BEGIN:VCALENDAR
VERSION:2.0
PRODID:-//80.74.143.76//NONSGML kigkonsult.se iCalcreator 2.20//
CALSCALE:GREGORIAN
METHOD:PUBLISH
X-WR-TIMEZONE:Europe/Amsterdam
BEGIN:VEVENT
UID:event116@Schützenverein Pfungen
DTSTAMP:20260419T191842Z
CATEGORIES:Schützenverein
DESCRIPTION:7. Schiessübung\nKategorie: Schützenverein\nICS-Link: https://s
 vpfungen.ch/index.php?option=com_jem&view=event&id=116:7-schiessuebung\n
DTSTART:20190619T180000
DTEND:20190619T200000
LOCATION:Schützenhaus Pfungen\,Grabistrasse\,8422 Pfungen
SUMMARY:7. Schiessübung
URL:https://svpfungen.ch/index.php?option=com_jem&view=event&id=116:7-schie
 ssuebung
END:VEVENT
END:VCALENDAR
