BEGIN:VCALENDAR
VERSION:2.0
PRODID:-//80.74.143.76//NONSGML kigkonsult.se iCalcreator 2.20//
CALSCALE:GREGORIAN
METHOD:PUBLISH
X-WR-TIMEZONE:Europe/Amsterdam
BEGIN:VEVENT
UID:event115@Schützenverein Pfungen
DTSTAMP:20260419T191935Z
CATEGORIES:Schützenverein
DESCRIPTION:6. Schiessübung\nKategorie: Schützenverein\nICS-Link: https://s
 vpfungen.ch/index.php?option=com_jem&view=event&id=115:6-schiessuebung\n
DTSTART:20190608T133000
DTEND:20190608T160000
LOCATION:Schützenhaus Pfungen\,Grabistrasse\,8422 Pfungen
SUMMARY:6. Schiessübung
URL:https://svpfungen.ch/index.php?option=com_jem&view=event&id=115:6-schie
 ssuebung
END:VEVENT
END:VCALENDAR
