BEGIN:VCALENDAR
VERSION:2.0
PRODID:-//80.74.143.76//NONSGML kigkonsult.se iCalcreator 2.20//
CALSCALE:GREGORIAN
METHOD:PUBLISH
X-WR-TIMEZONE:Europe/Amsterdam
BEGIN:VEVENT
UID:event107@Schützenverein Pfungen
DTSTAMP:20260419T192215Z
CATEGORIES:Schützenverein\, Jungschützen\, Diverse
DESCRIPTION:Winterschiessen Pfungen / Oberembrach\nKategorie: Schützenverei
 n\, Jungschützen\, Diverse\nICS-Link: https://svpfungen.ch/index.php?optio
 n=com_jem&view=event&id=107:winterschiessen-pfungen-oberembrach\n
DTSTART:20190112T133000
DTEND:20190112T160000
LOCATION:Schützenhaus Pfungen\,Grabistrasse\,8422 Pfungen
SUMMARY:Winterschiessen Pfungen / Oberembrach
URL:https://svpfungen.ch/index.php?option=com_jem&view=event&id=107:winters
 chiessen-pfungen-oberembrach
END:VEVENT
END:VCALENDAR
