BEGIN:VCALENDAR
VERSION:2.0
PRODID:-//80.74.143.76//NONSGML kigkonsult.se iCalcreator 2.20//
CALSCALE:GREGORIAN
METHOD:PUBLISH
X-WR-TIMEZONE:Europe/Amsterdam
BEGIN:VEVENT
UID:event106@Schützenverein Pfungen
DTSTAMP:20260419T191725Z
CATEGORIES:Schützenverein\, Jungschützen
DESCRIPTION:Bächtelischiessen 10m\nKategorie: Schützenverein\, Jungschützen
 \nICS-Link: https://svpfungen.ch/index.php?option=com_jem&view=event&id=10
 6:baechtelischiessen-10m\n
DTSTART:20190102T140000
DTEND:20190102T140000
LOCATION:Schützenhaus Pfungen\,Grabistrasse\,8422 Pfungen
SUMMARY:Bächtelischiessen 10m
URL:https://svpfungen.ch/index.php?option=com_jem&view=event&id=106:baechte
 lischiessen-10m
END:VEVENT
END:VCALENDAR
