BEGIN:VCALENDAR
VERSION:2.0
PRODID:-//80.74.143.76//NONSGML kigkonsult.se iCalcreator 2.20//
CALSCALE:GREGORIAN
METHOD:PUBLISH
X-WR-TIMEZONE:Europe/Amsterdam
BEGIN:VEVENT
UID:event104@Schützenverein Pfungen
DTSTAMP:20260419T191935Z
CATEGORIES:Schützenverein\, Jungschützen
DESCRIPTION:Mitgliederversammlung\nKategorie: Schützenverein\, Jungschützen
 \nICS-Link: https://svpfungen.ch/index.php?option=com_jem&view=event&id=10
 4:mitgliederversammlung\n
DTSTART:20181025T200000
DTEND:20181025T200000
LOCATION:Schützenhaus Pfungen\,Grabistrasse\,8422 Pfungen
SUMMARY:Mitgliederversammlung
URL:https://svpfungen.ch/index.php?option=com_jem&view=event&id=104:mitglie
 derversammlung
END:VEVENT
END:VCALENDAR
