BEGIN:VCALENDAR
VERSION:2.0
PRODID:-//80.74.143.76//NONSGML kigkonsult.se iCalcreator 2.20//
CALSCALE:GREGORIAN
METHOD:PUBLISH
X-WR-TIMEZONE:Europe/Amsterdam
BEGIN:VEVENT
UID:event897@Schützenverein Pfungen
DTSTAMP:20260419T150158Z
CATEGORIES:Vermietung
DESCRIPTION:Belegt\nKategorie: Vermietung\nICS-Link: https://svpfungen.ch/i
 ndex.php?option=com_jem&view=event&id=897:belegt\n
DTSTART;VALUE=DATE:20260418
DTEND;VALUE=DATE:20260419
SUMMARY:Belegt
URL:https://svpfungen.ch/index.php?option=com_jem&view=event&id=897:belegt
END:VEVENT
BEGIN:VEVENT
UID:event898@Schützenverein Pfungen
DTSTAMP:20260419T150158Z
CATEGORIES:Vermietung
DESCRIPTION:Belegt\nKategorie: Vermietung\nICS-Link: https://svpfungen.ch/i
 ndex.php?option=com_jem&view=event&id=898:belegt\n
DTSTART;VALUE=DATE:20260425
DTEND;VALUE=DATE:20260426
SUMMARY:Belegt
URL:https://svpfungen.ch/index.php?option=com_jem&view=event&id=898:belegt
END:VEVENT
BEGIN:VEVENT
UID:event899@Schützenverein Pfungen
DTSTAMP:20260419T150158Z
CATEGORIES:Vermietung
DESCRIPTION:Belegt\nKategorie: Vermietung\nICS-Link: https://svpfungen.ch/i
 ndex.php?option=com_jem&view=event&id=899:belegt\n
DTSTART;VALUE=DATE:20260523
DTEND;VALUE=DATE:20260524
SUMMARY:Belegt
URL:https://svpfungen.ch/index.php?option=com_jem&view=event&id=899:belegt
END:VEVENT
BEGIN:VEVENT
UID:event900@Schützenverein Pfungen
DTSTAMP:20260419T150158Z
CATEGORIES:Vermietung
DESCRIPTION:Belegt\nKategorie: Vermietung\nICS-Link: https://svpfungen.ch/i
 ndex.php?option=com_jem&view=event&id=900:belegt\n
DTSTART;VALUE=DATE:20260527
DTEND;VALUE=DATE:20260528
SUMMARY:Belegt
URL:https://svpfungen.ch/index.php?option=com_jem&view=event&id=900:belegt
END:VEVENT
BEGIN:VEVENT
UID:event903@Schützenverein Pfungen
DTSTAMP:20260419T150158Z
CATEGORIES:Vermietung
DESCRIPTION:Belegt\nKategorie: Vermietung\nICS-Link: https://svpfungen.ch/i
 ndex.php?option=com_jem&view=event&id=903:belegt\n
DTSTART;VALUE=DATE:20260829
DTEND;VALUE=DATE:20260830
SUMMARY:Belegt
URL:https://svpfungen.ch/index.php?option=com_jem&view=event&id=903:belegt
END:VEVENT
BEGIN:VEVENT
UID:event901@Schützenverein Pfungen
DTSTAMP:20260419T150158Z
CATEGORIES:Vermietung
DESCRIPTION:Belegt\nKategorie: Vermietung\nICS-Link: https://svpfungen.ch/i
 ndex.php?option=com_jem&view=event&id=901:belegt\n
DTSTART;VALUE=DATE:20260909
DTEND;VALUE=DATE:20260910
SUMMARY:Belegt
URL:https://svpfungen.ch/index.php?option=com_jem&view=event&id=901:belegt
END:VEVENT
BEGIN:VEVENT
UID:event902@Schützenverein Pfungen
DTSTAMP:20260419T150158Z
CATEGORIES:Vermietung
DESCRIPTION:Belegt\nKategorie: Vermietung\nICS-Link: https://svpfungen.ch/i
 ndex.php?option=com_jem&view=event&id=902:belegt\n
DTSTART;VALUE=DATE:20261121
DTEND;VALUE=DATE:20261122
SUMMARY:Belegt
URL:https://svpfungen.ch/index.php?option=com_jem&view=event&id=902:belegt
END:VEVENT
END:VCALENDAR
