BEGIN:VCALENDAR
VERSION:2.0
PRODID:-//80.74.143.76//NONSGML kigkonsult.se iCalcreator 2.20//
CALSCALE:GREGORIAN
METHOD:PUBLISH
X-WR-TIMEZONE:Europe/Amsterdam
BEGIN:VEVENT
UID:event862@Schützenverein Pfungen
DTSTAMP:20260419T162703Z
CATEGORIES:Schützenverein\, Jungschützen
DESCRIPTION:Endschiessen\nKategorie: Schützenverein\, Jungschützen\nICS-Lin
 k: https://svpfungen.ch/index.php?option=com_jem&view=event&id=862:endschi
 essen\n
DTSTART:20261003T133000
DTEND:20261003T170000
LOCATION:Schützenhaus Pfungen\,Grabistrasse\,8422 Pfungen
SUMMARY:Endschiessen
URL:https://svpfungen.ch/index.php?option=com_jem&view=event&id=862:endschi
 essen
END:VEVENT
END:VCALENDAR
