BEGIN:VCALENDAR
VERSION:2.0
PRODID:-//80.74.143.76//NONSGML kigkonsult.se iCalcreator 2.20//
CALSCALE:GREGORIAN
METHOD:PUBLISH
X-WR-TIMEZONE:Europe/Amsterdam
BEGIN:VEVENT
UID:event671@Schützenverein Pfungen
DTSTAMP:20260419T192214Z
CATEGORIES:Jahres-Meisterschaft
DESCRIPTION:Fahnenweihschiessen Bäretswil\nKategorie: Jahres-Meisterschaft
 \nICS-Link: https://svpfungen.ch/index.php?option=com_jem&view=event&id=67
 1:fahnenweihschiessen-baeretswil\n
DTSTART:20251004T090000
DTEND:20251004T163000
LOCATION:Schützenhaus Bäretswil\,8344 Bäretswil
SUMMARY:Fahnenweihschiessen Bäretswil
URL:https://svpfungen.ch/index.php?option=com_jem&view=event&id=671:fahnenw
 eihschiessen-baeretswil
END:VEVENT
END:VCALENDAR
