BEGIN:VCALENDAR
VERSION:2.0
PRODID:-//80.74.143.76//NONSGML kigkonsult.se iCalcreator 2.20//
CALSCALE:GREGORIAN
METHOD:PUBLISH
X-WR-TIMEZONE:Europe/Amsterdam
BEGIN:VEVENT
UID:event660@Schützenverein Pfungen
DTSTAMP:20260419T192032Z
CATEGORIES:Jahres-Meisterschaft
DESCRIPTION:1. Augustschiessen Kloten\nKategorie: Jahres-Meisterschaft\nICS
 -Link: https://svpfungen.ch/index.php?option=com_jem&view=event&id=660:1-a
 ugustschiessen-kloten\n
DTSTART:20250711T180000
DTEND:20250711T200000
LOCATION:Schützenhaus Bettensee Kloten\,Schützenhausweg\,8302 Kloten
SUMMARY:1. Augustschiessen Kloten
URL:https://svpfungen.ch/index.php?option=com_jem&view=event&id=660:1-augus
 tschiessen-kloten
END:VEVENT
END:VCALENDAR
