BEGIN:VCALENDAR
VERSION:2.0
PRODID:-//80.74.143.76//NONSGML kigkonsult.se iCalcreator 2.20//
CALSCALE:GREGORIAN
METHOD:PUBLISH
X-WR-TIMEZONE:Europe/Amsterdam
BEGIN:VEVENT
UID:event877@Schützenverein Pfungen
DTSTAMP:20260419T150046Z
CATEGORIES:Jahres-Meisterschaft
DESCRIPTION:Eulach-Schiessen\nKategorie: Jahres-Meisterschaft\nICS-Link: ht
 tps://svpfungen.ch/index.php?option=com_jem&view=event&id=877:eulach-schie
 ssen\n
DTSTART:20260417T160000
DTEND:20260417T191500
LOCATION:Schiessanlage Orbühl\,Seenerstrasse 139\,8404 Winterthur\,Switzerl
 and
SUMMARY:Eulach-Schiessen
URL:https://svpfungen.ch/index.php?option=com_jem&view=event&id=877:eulach-
 schiessen
END:VEVENT
BEGIN:VEVENT
UID:event875@Schützenverein Pfungen
DTSTAMP:20260419T150046Z
CATEGORIES:Jahres-Meisterschaft
DESCRIPTION:Eulach-Schiessen\nKategorie: Jahres-Meisterschaft\nICS-Link: ht
 tps://svpfungen.ch/index.php?option=com_jem&view=event&id=875:eulach-schie
 ssen\n
DTSTART:20260418T083000
DTEND:20260418T111500
LOCATION:Schiessanlage Orbühl\,Seenerstrasse 139\,8404 Winterthur\,Switzerl
 and
SUMMARY:Eulach-Schiessen
URL:https://svpfungen.ch/index.php?option=com_jem&view=event&id=875:eulach-
 schiessen
END:VEVENT
BEGIN:VEVENT
UID:event876@Schützenverein Pfungen
DTSTAMP:20260419T150046Z
CATEGORIES:Jahres-Meisterschaft
DESCRIPTION:Eulach-Schiessen\nKategorie: Jahres-Meisterschaft\nICS-Link: ht
 tps://svpfungen.ch/index.php?option=com_jem&view=event&id=876:eulach-schie
 ssen\n
DTSTART:20260418T133000
DTEND:20260418T160000
LOCATION:Schiessanlage Orbühl\,Seenerstrasse 139\,8404 Winterthur\,Switzerl
 and
SUMMARY:Eulach-Schiessen
URL:https://svpfungen.ch/index.php?option=com_jem&view=event&id=876:eulach-
 schiessen
END:VEVENT
BEGIN:VEVENT
UID:event879@Schützenverein Pfungen
DTSTAMP:20260419T150046Z
CATEGORIES:Jahres-Meisterschaft
DESCRIPTION:Warpelschiessen Embrach\nKategorie: Jahres-Meisterschaft\nICS-L
 ink: https://svpfungen.ch/index.php?option=com_jem&view=event&id=879:warpe
 lschiessen-embrach\n
DTSTART:20260424T173000
DTEND:20260424T200000
LOCATION:Schiessanlage Warpel\, Embrach\,8424 Embrach\,Switzerland
SUMMARY:Warpelschiessen Embrach
URL:https://svpfungen.ch/index.php?option=com_jem&view=event&id=879:warpels
 chiessen-embrach
END:VEVENT
BEGIN:VEVENT
UID:event880@Schützenverein Pfungen
DTSTAMP:20260419T150046Z
CATEGORIES:Jahres-Meisterschaft
DESCRIPTION:Warpelschiessen Embrach\nKategorie: Jahres-Meisterschaft\nICS-L
 ink: https://svpfungen.ch/index.php?option=com_jem&view=event&id=880:warpe
 lschiessen-embrach\n
DTSTART:20260425T083000
DTEND:20260425T120000
LOCATION:Schiessanlage Warpel\, Embrach\,8424 Embrach\,Switzerland
SUMMARY:Warpelschiessen Embrach
URL:https://svpfungen.ch/index.php?option=com_jem&view=event&id=880:warpels
 chiessen-embrach
END:VEVENT
BEGIN:VEVENT
UID:event881@Schützenverein Pfungen
DTSTAMP:20260419T150046Z
CATEGORIES:Jahres-Meisterschaft
DESCRIPTION:Warpelschiessen Embrach\nKategorie: Jahres-Meisterschaft\nICS-L
 ink: https://svpfungen.ch/index.php?option=com_jem&view=event&id=881:warpe
 lschiessen-embrach\n
DTSTART:20260501T083000
DTEND:20260501T153000
LOCATION:Schiessanlage Warpel\, Embrach\,8424 Embrach\,Switzerland
SUMMARY:Warpelschiessen Embrach
URL:https://svpfungen.ch/index.php?option=com_jem&view=event&id=881:warpels
 chiessen-embrach
END:VEVENT
BEGIN:VEVENT
UID:event882@Schützenverein Pfungen
DTSTAMP:20260419T150046Z
CATEGORIES:Jahres-Meisterschaft
DESCRIPTION:Fyraabigschiessen Hochfelden\nKategorie: Jahres-Meisterschaft\n
 ICS-Link: https://svpfungen.ch/index.php?option=com_jem&view=event&id=882:
 fyraabigschiessen-hochfelden\n
DTSTART:20260604T160000
DTEND:20260604T210000
LOCATION:Schützenhaus Hochfelden\,8182 Hochfelden\,Switzerland
SUMMARY:Fyraabigschiessen Hochfelden
URL:https://svpfungen.ch/index.php?option=com_jem&view=event&id=882:fyraabi
 gschiessen-hochfelden
END:VEVENT
BEGIN:VEVENT
UID:event883@Schützenverein Pfungen
DTSTAMP:20260419T150046Z
CATEGORIES:Jahres-Meisterschaft
DESCRIPTION:Fyraabigschiessen Hochfelden\nKategorie: Jahres-Meisterschaft\n
 ICS-Link: https://svpfungen.ch/index.php?option=com_jem&view=event&id=883:
 fyraabigschiessen-hochfelden\n
DTSTART:20260605T160000
DTEND:20260605T210000
LOCATION:Schützenhaus Hochfelden\,8182 Hochfelden\,Switzerland
SUMMARY:Fyraabigschiessen Hochfelden
URL:https://svpfungen.ch/index.php?option=com_jem&view=event&id=883:fyraabi
 gschiessen-hochfelden
END:VEVENT
BEGIN:VEVENT
UID:event884@Schützenverein Pfungen
DTSTAMP:20260419T150046Z
CATEGORIES:Jahres-Meisterschaft
DESCRIPTION:Fyraabigschiessen Hochfelden\nKategorie: Jahres-Meisterschaft\n
 ICS-Link: https://svpfungen.ch/index.php?option=com_jem&view=event&id=884:
 fyraabigschiessen-hochfelden\n
DTSTART:20260611T160000
DTEND:20260611T210000
LOCATION:Schützenhaus Hochfelden\,8182 Hochfelden\,Switzerland
SUMMARY:Fyraabigschiessen Hochfelden
URL:https://svpfungen.ch/index.php?option=com_jem&view=event&id=884:fyraabi
 gschiessen-hochfelden
END:VEVENT
BEGIN:VEVENT
UID:event885@Schützenverein Pfungen
DTSTAMP:20260419T150046Z
CATEGORIES:Jahres-Meisterschaft
DESCRIPTION:Fyraabigschiessen Hochfelden\nKategorie: Jahres-Meisterschaft\n
 ICS-Link: https://svpfungen.ch/index.php?option=com_jem&view=event&id=885:
 fyraabigschiessen-hochfelden\n
DTSTART:20260612T160000
DTEND:20260612T210000
LOCATION:Schützenhaus Hochfelden\,8182 Hochfelden\,Switzerland
SUMMARY:Fyraabigschiessen Hochfelden
URL:https://svpfungen.ch/index.php?option=com_jem&view=event&id=885:fyraabi
 gschiessen-hochfelden
END:VEVENT
BEGIN:VEVENT
UID:event855@Schützenverein Pfungen
DTSTAMP:20260419T150046Z
CATEGORIES:Jahres-Meisterschaft
DESCRIPTION:Eidg. Schützenfest Chur\nKategorie: Jahres-Meisterschaft\nICS-L
 ink: https://svpfungen.ch/index.php?option=com_jem&view=event&id=855:eidg-
 schuetzenfest-chur\n
DTSTART:20260627T133000
DTEND:20260627T190000
SUMMARY:Eidg. Schützenfest Chur
URL:https://svpfungen.ch/index.php?option=com_jem&view=event&id=855:eidg-sc
 huetzenfest-chur
END:VEVENT
BEGIN:VEVENT
UID:event886@Schützenverein Pfungen
DTSTAMP:20260419T150046Z
CATEGORIES:Jahres-Meisterschaft
DESCRIPTION:1. Augustschiessen Kloten\nKategorie: Jahres-Meisterschaft\nICS
 -Link: https://svpfungen.ch/index.php?option=com_jem&view=event&id=886:1-a
 ugustschiessen-kloten\n
DTSTART:20260710T170000
DTEND:20260710T200000
LOCATION:Schützenhaus Bettensee Kloten\,Schützenhausweg\,8302 Kloten\,Switz
 erland
SUMMARY:1. Augustschiessen Kloten
URL:https://svpfungen.ch/index.php?option=com_jem&view=event&id=886:1-augus
 tschiessen-kloten
END:VEVENT
BEGIN:VEVENT
UID:event887@Schützenverein Pfungen
DTSTAMP:20260419T150046Z
CATEGORIES:Jahres-Meisterschaft
DESCRIPTION:1. Augustschiessen Kloten\nKategorie: Jahres-Meisterschaft\nICS
 -Link: https://svpfungen.ch/index.php?option=com_jem&view=event&id=887:1-a
 ugustschiessen-kloten\n
DTSTART:20260724T170000
DTEND:20260724T200000
LOCATION:Schützenhaus Bettensee Kloten\,Schützenhausweg\,8302 Kloten\,Switz
 erland
SUMMARY:1. Augustschiessen Kloten
URL:https://svpfungen.ch/index.php?option=com_jem&view=event&id=887:1-augus
 tschiessen-kloten
END:VEVENT
BEGIN:VEVENT
UID:event888@Schützenverein Pfungen
DTSTAMP:20260419T150046Z
CATEGORIES:Jahres-Meisterschaft
DESCRIPTION:1. Augustschiessen Kloten\nKategorie: Jahres-Meisterschaft\nICS
 -Link: https://svpfungen.ch/index.php?option=com_jem&view=event&id=888:1-a
 ugustschiessen-kloten\n
DTSTART:20260725T080000
DTEND:20260725T160000
LOCATION:Schützenhaus Bettensee Kloten\,Schützenhausweg\,8302 Kloten\,Switz
 erland
SUMMARY:1. Augustschiessen Kloten
URL:https://svpfungen.ch/index.php?option=com_jem&view=event&id=888:1-augus
 tschiessen-kloten
END:VEVENT
BEGIN:VEVENT
UID:event889@Schützenverein Pfungen
DTSTAMP:20260419T150046Z
CATEGORIES:Jahres-Meisterschaft
DESCRIPTION:1. Augustschiessen Kloten\nKategorie: Jahres-Meisterschaft\nICS
 -Link: https://svpfungen.ch/index.php?option=com_jem&view=event&id=889:1-a
 ugustschiessen-kloten\n
DTSTART:20260801T080000
DTEND:20260801T120000
LOCATION:Schützenhaus Bettensee Kloten\,Schützenhausweg\,8302 Kloten\,Switz
 erland
SUMMARY:1. Augustschiessen Kloten
URL:https://svpfungen.ch/index.php?option=com_jem&view=event&id=889:1-augus
 tschiessen-kloten
END:VEVENT
BEGIN:VEVENT
UID:event860@Schützenverein Pfungen
DTSTAMP:20260419T150046Z
CATEGORIES:Jahres-Meisterschaft
DESCRIPTION:Stoss-Schiessen\nKategorie: Jahres-Meisterschaft\nICS-Link: htt
 ps://svpfungen.ch/index.php?option=com_jem&view=event&id=860:stoss-schiess
 en\n
DTSTART:20260830T080000
DTEND:20260830T120000
LOCATION:Feldstand Stoss\, Gais\,9056 Gais\,Switzerland
SUMMARY:Stoss-Schiessen
URL:https://svpfungen.ch/index.php?option=com_jem&view=event&id=860:stoss-s
 chiessen
END:VEVENT
BEGIN:VEVENT
UID:event890@Schützenverein Pfungen
DTSTAMP:20260419T150046Z
CATEGORIES:Jahres-Meisterschaft
DESCRIPTION:Zürcher SVP Schiessen\nKategorie: Jahres-Meisterschaft\nICS-Lin
 k: https://svpfungen.ch/index.php?option=com_jem&view=event&id=890:zuerche
 r-svp-schiessen\n
DTSTART:20260912T090000
DTEND:20260912T160000
LOCATION:Schiessplatz Steinacker Marthalen\,Im Steinacker\,8460 Marthalen\,
 Switzerland
SUMMARY:Zürcher SVP Schiessen
URL:https://svpfungen.ch/index.php?option=com_jem&view=event&id=890:zuerche
 r-svp-schiessen
END:VEVENT
BEGIN:VEVENT
UID:event891@Schützenverein Pfungen
DTSTAMP:20260419T150046Z
CATEGORIES:Jahres-Meisterschaft
DESCRIPTION:Zürcher SVP Schiessen\nKategorie: Jahres-Meisterschaft\nICS-Lin
 k: https://svpfungen.ch/index.php?option=com_jem&view=event&id=891:zuerche
 r-svp-schiessen\n
DTSTART:20260926T090000
DTEND:20260926T160000
LOCATION:Schiessplatz Steinacker Marthalen\,Im Steinacker\,8460 Marthalen\,
 Switzerland
SUMMARY:Zürcher SVP Schiessen
URL:https://svpfungen.ch/index.php?option=com_jem&view=event&id=891:zuerche
 r-svp-schiessen
END:VEVENT
BEGIN:VEVENT
UID:event892@Schützenverein Pfungen
DTSTAMP:20260419T150046Z
CATEGORIES:Jahres-Meisterschaft
DESCRIPTION:Zürcher SVP Schiessen\nKategorie: Jahres-Meisterschaft\nICS-Lin
 k: https://svpfungen.ch/index.php?option=com_jem&view=event&id=892:zuerche
 r-svp-schiessen\n
DTSTART:20260927T083000
DTEND:20260927T120000
LOCATION:Schiessplatz Steinacker Marthalen\,Im Steinacker\,8460 Marthalen\,
 Switzerland
SUMMARY:Zürcher SVP Schiessen
URL:https://svpfungen.ch/index.php?option=com_jem&view=event&id=892:zuerche
 r-svp-schiessen
END:VEVENT
BEGIN:VEVENT
UID:event893@Schützenverein Pfungen
DTSTAMP:20260419T150046Z
CATEGORIES:Jahres-Meisterschaft
DESCRIPTION:Guyer-Zellerschiessen Bäretswil\nKategorie: Jahres-Meisterschaf
 t\nICS-Link: https://svpfungen.ch/index.php?option=com_jem&view=event&id=8
 93:guyer-zellerschiessen-baeretswil\n
DTSTART:20261009T160000
DTEND:20261009T180000
LOCATION:Schützenhaus Bäretswil\,8344 Bäretswil\,Switzerland
SUMMARY:Guyer-Zellerschiessen Bäretswil
URL:https://svpfungen.ch/index.php?option=com_jem&view=event&id=893:guyer-z
 ellerschiessen-baeretswil
END:VEVENT
BEGIN:VEVENT
UID:event895@Schützenverein Pfungen
DTSTAMP:20260419T150046Z
CATEGORIES:Jahres-Meisterschaft
DESCRIPTION:Guyer-Zellerschiessen Bäretswil\nKategorie: Jahres-Meisterschaf
 t\nICS-Link: https://svpfungen.ch/index.php?option=com_jem&view=event&id=8
 95:guyer-zellerschiessen-baeretswil\n
DTSTART:20261010T090000
DTEND:20261010T163000
LOCATION:Schützenhaus Bäretswil\,8344 Bäretswil\,Switzerland
SUMMARY:Guyer-Zellerschiessen Bäretswil
URL:https://svpfungen.ch/index.php?option=com_jem&view=event&id=895:guyer-z
 ellerschiessen-baeretswil
END:VEVENT
BEGIN:VEVENT
UID:event894@Schützenverein Pfungen
DTSTAMP:20260419T150046Z
CATEGORIES:Jahres-Meisterschaft
DESCRIPTION:Guyer-Zellerschiessen Bäretswil\nKategorie: Jahres-Meisterschaf
 t\nICS-Link: https://svpfungen.ch/index.php?option=com_jem&view=event&id=8
 94:guyer-zellerschiessen-baeretswil\n
DTSTART:20261016T160000
DTEND:20261016T180000
LOCATION:Schützenhaus Bäretswil\,8344 Bäretswil\,Switzerland
SUMMARY:Guyer-Zellerschiessen Bäretswil
URL:https://svpfungen.ch/index.php?option=com_jem&view=event&id=894:guyer-z
 ellerschiessen-baeretswil
END:VEVENT
BEGIN:VEVENT
UID:event896@Schützenverein Pfungen
DTSTAMP:20260419T150046Z
CATEGORIES:Jahres-Meisterschaft
DESCRIPTION:Guyer-Zellerschiessen Bäretswil\nKategorie: Jahres-Meisterschaf
 t\nICS-Link: https://svpfungen.ch/index.php?option=com_jem&view=event&id=8
 96:guyer-zellerschiessen-baeretswil\n
DTSTART:20261017T090000
DTEND:20261017T163000
LOCATION:Schützenhaus Bäretswil\,8344 Bäretswil\,Switzerland
SUMMARY:Guyer-Zellerschiessen Bäretswil
URL:https://svpfungen.ch/index.php?option=com_jem&view=event&id=896:guyer-z
 ellerschiessen-baeretswil
END:VEVENT
END:VCALENDAR
