BEGIN:VCALENDAR
VERSION:2.0
PRODID:-//80.74.143.76//NONSGML kigkonsult.se iCalcreator 2.20//
CALSCALE:GREGORIAN
METHOD:PUBLISH
X-WR-TIMEZONE:Europe/Amsterdam
BEGIN:VEVENT
UID:event830@Schützenverein Pfungen
DTSTAMP:20260419T121816Z
CATEGORIES:Jungschützen
DESCRIPTION:1. Schiesstag\nKategorie: Jungschützen\nICS-Link: https://svpfu
 ngen.ch/index.php?option=com_jem&view=event&id=830:1-schiesstag\n
DTSTART:20260425T133000
DTEND:20260425T170000
LOCATION:Schützenhaus Pfungen\,Grabistrasse\,8422 Pfungen\,Switzerland
SUMMARY:1. Schiesstag
URL:https://svpfungen.ch/index.php?option=com_jem&view=event&id=830:1-schie
 sstag
END:VEVENT
BEGIN:VEVENT
UID:event831@Schützenverein Pfungen
DTSTAMP:20260419T121816Z
CATEGORIES:Jungschützen
DESCRIPTION:2. Schiesstag\nKategorie: Jungschützen\nICS-Link: https://svpfu
 ngen.ch/index.php?option=com_jem&view=event&id=831:2-schiesstag\n
DTSTART:20260509T133000
DTEND:20260509T170000
LOCATION:Schützenhaus Pfungen\,Grabistrasse\,8422 Pfungen\,Switzerland
SUMMARY:2. Schiesstag
URL:https://svpfungen.ch/index.php?option=com_jem&view=event&id=831:2-schie
 sstag
END:VEVENT
BEGIN:VEVENT
UID:event850@Schützenverein Pfungen
DTSTAMP:20260419T121816Z
CATEGORIES:Jungschützen
DESCRIPTION:Feldschiessen (Vorschiessen)\nKategorie: Jungschützen\nICS-Link
 : https://svpfungen.ch/index.php?option=com_jem&view=event&id=850:feldschi
 essen-vorschiessen\n
DTSTART:20260520T170000
DTEND:20260520T200000
LOCATION:Schützenhaus Brütten\,Chrebsbachstrasse\,8311 Brütten\,Switzerland
SUMMARY:Feldschiessen (Vorschiessen)
URL:https://svpfungen.ch/index.php?option=com_jem&view=event&id=850:feldsch
 iessen-vorschiessen
END:VEVENT
BEGIN:VEVENT
UID:event832@Schützenverein Pfungen
DTSTAMP:20260419T121816Z
CATEGORIES:Jungschützen
DESCRIPTION:3. Schiesstag\nKategorie: Jungschützen\nICS-Link: https://svpfu
 ngen.ch/index.php?option=com_jem&view=event&id=832:3-schiesstag\n
DTSTART:20260520T180000
DTEND:20260520T200000
LOCATION:Schützenhaus Pfungen\,Grabistrasse\,8422 Pfungen\,Switzerland
SUMMARY:3. Schiesstag
URL:https://svpfungen.ch/index.php?option=com_jem&view=event&id=832:3-schie
 sstag
END:VEVENT
BEGIN:VEVENT
UID:event846@Schützenverein Pfungen
DTSTAMP:20260419T121816Z
CATEGORIES:Jungschützen
DESCRIPTION:Unterhalt Schützenhaus\nKategorie: Jungschützen\nICS-Link: http
 s://svpfungen.ch/index.php?option=com_jem&view=event&id=846:unterhalt-schu
 etzenhaus\n
DTSTART:20260523T080000
DTEND:20260523T080000
LOCATION:Schützenhaus Pfungen\,Grabistrasse\,8422 Pfungen\,Switzerland
SUMMARY:Unterhalt Schützenhaus
URL:https://svpfungen.ch/index.php?option=com_jem&view=event&id=846:unterha
 lt-schuetzenhaus
END:VEVENT
BEGIN:VEVENT
UID:event851@Schützenverein Pfungen
DTSTAMP:20260419T121816Z
CATEGORIES:Jungschützen
DESCRIPTION:Feldschiessen\nKategorie: Jungschützen\nICS-Link: https://svpfu
 ngen.ch/index.php?option=com_jem&view=event&id=851:feldschiessen\n
DTSTART:20260529T170000
DTEND:20260529T200000
LOCATION:Schützenhaus Brütten\,Chrebsbachstrasse\,8311 Brütten\,Switzerland
SUMMARY:Feldschiessen
URL:https://svpfungen.ch/index.php?option=com_jem&view=event&id=851:feldsch
 iessen
END:VEVENT
BEGIN:VEVENT
UID:event852@Schützenverein Pfungen
DTSTAMP:20260419T121816Z
CATEGORIES:Jungschützen
DESCRIPTION:Feldschiessen\nKategorie: Jungschützen\nICS-Link: https://svpfu
 ngen.ch/index.php?option=com_jem&view=event&id=852:feldschiessen\n
DTSTART:20260529T170000
DTEND:20260529T200000
LOCATION:Schützenhaus Brütten\,Chrebsbachstrasse\,8311 Brütten\,Switzerland
SUMMARY:Feldschiessen
URL:https://svpfungen.ch/index.php?option=com_jem&view=event&id=852:feldsch
 iessen
END:VEVENT
BEGIN:VEVENT
UID:event853@Schützenverein Pfungen
DTSTAMP:20260419T121816Z
CATEGORIES:Jungschützen
DESCRIPTION:Feldschiessen\nKategorie: Jungschützen\nICS-Link: https://svpfu
 ngen.ch/index.php?option=com_jem&view=event&id=853:feldschiessen\n
DTSTART:20260530T090000
DTEND:20260530T160000
LOCATION:Schützenhaus Brütten\,Chrebsbachstrasse\,8311 Brütten\,Switzerland
SUMMARY:Feldschiessen
URL:https://svpfungen.ch/index.php?option=com_jem&view=event&id=853:feldsch
 iessen
END:VEVENT
BEGIN:VEVENT
UID:event854@Schützenverein Pfungen
DTSTAMP:20260419T121816Z
CATEGORIES:Jungschützen
DESCRIPTION:Feldschiessen\nKategorie: Jungschützen\nICS-Link: https://svpfu
 ngen.ch/index.php?option=com_jem&view=event&id=854:feldschiessen\n
DTSTART:20260531T090000
DTEND:20260531T120000
LOCATION:Schützenhaus Brütten\,Chrebsbachstrasse\,8311 Brütten\,Switzerland
SUMMARY:Feldschiessen
URL:https://svpfungen.ch/index.php?option=com_jem&view=event&id=854:feldsch
 iessen
END:VEVENT
BEGIN:VEVENT
UID:event833@Schützenverein Pfungen
DTSTAMP:20260419T121816Z
CATEGORIES:Jungschützen
DESCRIPTION:4. Schiesstag\nKategorie: Jungschützen\nICS-Link: https://svpfu
 ngen.ch/index.php?option=com_jem&view=event&id=833:4-schiesstag\n
DTSTART:20260603T180000
DTEND:20260603T200000
LOCATION:Schützenhaus Pfungen\,Grabistrasse\,8422 Pfungen\,Switzerland
SUMMARY:4. Schiesstag
URL:https://svpfungen.ch/index.php?option=com_jem&view=event&id=833:4-schie
 sstag
END:VEVENT
BEGIN:VEVENT
UID:event839@Schützenverein Pfungen
DTSTAMP:20260419T121816Z
CATEGORIES:Jungschützen
DESCRIPTION:Jungschützen Wettschiessen (Vorschiessen)\nKategorie: Jungschüt
 zen\nICS-Link: https://svpfungen.ch/index.php?option=com_jem&view=event&id
 =839:jungschuetzen-wettschiessen-vorschiessen\n
DTSTART:20260603T183000
DTEND:20260603T203000
LOCATION:Dickbuch\,Switzerland
SUMMARY:Jungschützen Wettschiessen (Vorschiessen)
URL:https://svpfungen.ch/index.php?option=com_jem&view=event&id=839:jungsch
 uetzen-wettschiessen-vorschiessen
END:VEVENT
BEGIN:VEVENT
UID:event840@Schützenverein Pfungen
DTSTAMP:20260419T121816Z
CATEGORIES:Jungschützen
DESCRIPTION:Jungschützen Wettschiessen\nKategorie: Jungschützen\nICS-Link: 
 https://svpfungen.ch/index.php?option=com_jem&view=event&id=840:jungschuet
 zen-wettschiessen\n
DTSTART:20260613T093000
DTEND:20260613T153000
LOCATION:Dickbuch\,Switzerland
SUMMARY:Jungschützen Wettschiessen
URL:https://svpfungen.ch/index.php?option=com_jem&view=event&id=840:jungsch
 uetzen-wettschiessen
END:VEVENT
BEGIN:VEVENT
UID:event834@Schützenverein Pfungen
DTSTAMP:20260419T121816Z
CATEGORIES:Jungschützen
DESCRIPTION:5. Schiesstag\nKategorie: Jungschützen\nICS-Link: https://svpfu
 ngen.ch/index.php?option=com_jem&view=event&id=834:5-schiesstag\n
DTSTART:20260620T133000
DTEND:20260620T170000
LOCATION:Schützenhaus Pfungen\,Grabistrasse\,8422 Pfungen\,Switzerland
SUMMARY:5. Schiesstag
URL:https://svpfungen.ch/index.php?option=com_jem&view=event&id=834:5-schie
 sstag
END:VEVENT
BEGIN:VEVENT
UID:event855@Schützenverein Pfungen
DTSTAMP:20260419T121816Z
CATEGORIES:Jungschützen
DESCRIPTION:Eidg. Schützenfest Chur\nKategorie: Jungschützen\nICS-Link: htt
 ps://svpfungen.ch/index.php?option=com_jem&view=event&id=855:eidg-schuetze
 nfest-chur\n
DTSTART:20260627T133000
DTEND:20260627T190000
SUMMARY:Eidg. Schützenfest Chur
URL:https://svpfungen.ch/index.php?option=com_jem&view=event&id=855:eidg-sc
 huetzenfest-chur
END:VEVENT
BEGIN:VEVENT
UID:event843@Schützenverein Pfungen
DTSTAMP:20260419T121816Z
CATEGORIES:Jungschützen
DESCRIPTION:2. Oblig. Bundesprogramm\nKategorie: Jungschützen\nICS-Link: ht
 tps://svpfungen.ch/index.php?option=com_jem&view=event&id=843:2-oblig-bund
 esprogramm\n
DTSTART:20260701T180000
DTEND:20260701T200000
LOCATION:Schützenhaus Pfungen\,Grabistrasse\,8422 Pfungen\,Switzerland
SUMMARY:2. Oblig. Bundesprogramm
URL:https://svpfungen.ch/index.php?option=com_jem&view=event&id=843:2-oblig
 -bundesprogramm
END:VEVENT
BEGIN:VEVENT
UID:event835@Schützenverein Pfungen
DTSTAMP:20260419T121816Z
CATEGORIES:Jungschützen
DESCRIPTION:6. Schiesstag\nKategorie: Jungschützen\nICS-Link: https://svpfu
 ngen.ch/index.php?option=com_jem&view=event&id=835:6-schiesstag\n
DTSTART:20260704T133000
DTEND:20260704T170000
LOCATION:Schützenhaus Pfungen\,Grabistrasse\,8422 Pfungen\,Switzerland
SUMMARY:6. Schiesstag
URL:https://svpfungen.ch/index.php?option=com_jem&view=event&id=835:6-schie
 sstag
END:VEVENT
BEGIN:VEVENT
UID:event836@Schützenverein Pfungen
DTSTAMP:20260419T121816Z
CATEGORIES:Jungschützen
DESCRIPTION:7. Schiesstag\nKategorie: Jungschützen\nICS-Link: https://svpfu
 ngen.ch/index.php?option=com_jem&view=event&id=836:7-schiesstag\n
DTSTART:20260722T180000
DTEND:20260722T200000
LOCATION:Schützenhaus Pfungen\,Grabistrasse\,8422 Pfungen\,Switzerland
SUMMARY:7. Schiesstag
URL:https://svpfungen.ch/index.php?option=com_jem&view=event&id=836:7-schie
 sstag
END:VEVENT
BEGIN:VEVENT
UID:event847@Schützenverein Pfungen
DTSTAMP:20260419T121816Z
CATEGORIES:Jungschützen
DESCRIPTION:Unterhalt Schützenhaus\nKategorie: Jungschützen\nICS-Link: http
 s://svpfungen.ch/index.php?option=com_jem&view=event&id=847:unterhalt-schu
 etzenhaus\n
DTSTART:20260808T080000
DTEND:20260808T080000
LOCATION:Schützenhaus Pfungen\,Grabistrasse\,8422 Pfungen\,Switzerland
SUMMARY:Unterhalt Schützenhaus
URL:https://svpfungen.ch/index.php?option=com_jem&view=event&id=847:unterha
 lt-schuetzenhaus
END:VEVENT
BEGIN:VEVENT
UID:event837@Schützenverein Pfungen
DTSTAMP:20260419T121816Z
CATEGORIES:Jungschützen
DESCRIPTION:8. Schiesstag\nKategorie: Jungschützen\nICS-Link: https://svpfu
 ngen.ch/index.php?option=com_jem&view=event&id=837:8-schiesstag\n
DTSTART:20260812T180000
DTEND:20260812T200000
LOCATION:Schützenhaus Pfungen\,Grabistrasse\,8422 Pfungen\,Switzerland
SUMMARY:8. Schiesstag
URL:https://svpfungen.ch/index.php?option=com_jem&view=event&id=837:8-schie
 sstag
END:VEVENT
BEGIN:VEVENT
UID:event844@Schützenverein Pfungen
DTSTAMP:20260419T121816Z
CATEGORIES:Jungschützen
DESCRIPTION:3. Oblig. Bundesprogramm\nKategorie: Jungschützen\nICS-Link: ht
 tps://svpfungen.ch/index.php?option=com_jem&view=event&id=844:3-oblig-bund
 esprogramm\n
DTSTART:20260829T090000
DTEND:20260829T120000
LOCATION:Schützenhaus Pfungen\,Grabistrasse\,8422 Pfungen\,Switzerland
SUMMARY:3. Oblig. Bundesprogramm
URL:https://svpfungen.ch/index.php?option=com_jem&view=event&id=844:3-oblig
 -bundesprogramm
END:VEVENT
BEGIN:VEVENT
UID:event860@Schützenverein Pfungen
DTSTAMP:20260419T121816Z
CATEGORIES:Jungschützen
DESCRIPTION:Stoss-Schiessen\nKategorie: Jungschützen\nICS-Link: https://svp
 fungen.ch/index.php?option=com_jem&view=event&id=860:stoss-schiessen\n
DTSTART:20260830T080000
DTEND:20260830T120000
LOCATION:Feldstand Stoss\, Gais\,9056 Gais\,Switzerland
SUMMARY:Stoss-Schiessen
URL:https://svpfungen.ch/index.php?option=com_jem&view=event&id=860:stoss-s
 chiessen
END:VEVENT
BEGIN:VEVENT
UID:event838@Schützenverein Pfungen
DTSTAMP:20260419T121816Z
CATEGORIES:Jungschützen
DESCRIPTION:JS-Wettkampf\nKategorie: Jungschützen\nICS-Link: https://svpfun
 gen.ch/index.php?option=com_jem&view=event&id=838:js-wettkampf\n
DTSTART:20260912T133000
DTEND:20260912T170000
LOCATION:Schützenhaus Pfungen\,Grabistrasse\,8422 Pfungen\,Switzerland
SUMMARY:JS-Wettkampf
URL:https://svpfungen.ch/index.php?option=com_jem&view=event&id=838:js-wett
 kampf
END:VEVENT
BEGIN:VEVENT
UID:event862@Schützenverein Pfungen
DTSTAMP:20260419T121816Z
CATEGORIES:Jungschützen
DESCRIPTION:Endschiessen\nKategorie: Jungschützen\nICS-Link: https://svpfun
 gen.ch/index.php?option=com_jem&view=event&id=862:endschiessen\n
DTSTART:20261003T133000
DTEND:20261003T170000
LOCATION:Schützenhaus Pfungen\,Grabistrasse\,8422 Pfungen\,Switzerland
SUMMARY:Endschiessen
URL:https://svpfungen.ch/index.php?option=com_jem&view=event&id=862:endschi
 essen
END:VEVENT
BEGIN:VEVENT
UID:event841@Schützenverein Pfungen
DTSTAMP:20260419T121816Z
CATEGORIES:Jungschützen
DESCRIPTION:Waffenreinigung\nKategorie: Jungschützen\nICS-Link: https://svp
 fungen.ch/index.php?option=com_jem&view=event&id=841:waffenreinigung\n
DTSTART:20261017T100000
DTEND:20261017T140000
LOCATION:Schützenhaus Pfungen\,Grabistrasse\,8422 Pfungen\,Switzerland
SUMMARY:Waffenreinigung
URL:https://svpfungen.ch/index.php?option=com_jem&view=event&id=841:waffenr
 einigung
END:VEVENT
BEGIN:VEVENT
UID:event864@Schützenverein Pfungen
DTSTAMP:20260419T121816Z
CATEGORIES:Jungschützen
DESCRIPTION:Mitgliederversammlung\nKategorie: Jungschützen\nICS-Link: https
 ://svpfungen.ch/index.php?option=com_jem&view=event&id=864:mitgliederversa
 mmlung\n
DTSTART:20261022T200000
DTEND:20261022T200000
LOCATION:Schützenhaus Pfungen\,Grabistrasse\,8422 Pfungen\,Switzerland
SUMMARY:Mitgliederversammlung
URL:https://svpfungen.ch/index.php?option=com_jem&view=event&id=864:mitglie
 derversammlung
END:VEVENT
BEGIN:VEVENT
UID:event863@Schützenverein Pfungen
DTSTAMP:20260419T121816Z
CATEGORIES:Jungschützen
DESCRIPTION:Absenden\nKategorie: Jungschützen\nICS-Link: https://svpfungen.
 ch/index.php?option=com_jem&view=event&id=863:absenden\n
DTSTART:20261107T190000
DTEND:20261107T190000
LOCATION:Schützenhaus Pfungen\,Grabistrasse\,8422 Pfungen\,Switzerland
SUMMARY:Absenden
URL:https://svpfungen.ch/index.php?option=com_jem&view=event&id=863:absende
 n
END:VEVENT
BEGIN:VEVENT
UID:event865@Schützenverein Pfungen
DTSTAMP:20260419T121816Z
CATEGORIES:Jungschützen
DESCRIPTION:Bächtelischiessen 10m\nKategorie: Jungschützen\nICS-Link: https
 ://svpfungen.ch/index.php?option=com_jem&view=event&id=865:baechtelischies
 sen-10m\n
DTSTART:20270102T140000
DTEND:20270102T140000
LOCATION:Schützenhaus Pfungen\,Grabistrasse\,8422 Pfungen\,Switzerland
SUMMARY:Bächtelischiessen 10m
URL:https://svpfungen.ch/index.php?option=com_jem&view=event&id=865:baechte
 lischiessen-10m
END:VEVENT
BEGIN:VEVENT
UID:event866@Schützenverein Pfungen
DTSTAMP:20260419T121816Z
CATEGORIES:Jungschützen
DESCRIPTION:Winterschiessen Oberembrach / Pfungen\nKategorie: Jungschützen
 \nICS-Link: https://svpfungen.ch/index.php?option=com_jem&view=event&id=86
 6:winterschiessen-oberembrach-pfungen\n
DTSTART:20270109T133000
DTEND:20270109T153000
LOCATION:Schützenhaus Pfungen\,Grabistrasse\,8422 Pfungen\,Switzerland
SUMMARY:Winterschiessen Oberembrach / Pfungen
URL:https://svpfungen.ch/index.php?option=com_jem&view=event&id=866:winters
 chiessen-oberembrach-pfungen
END:VEVENT
BEGIN:VEVENT
UID:event868@Schützenverein Pfungen
DTSTAMP:20260419T121816Z
CATEGORIES:Jungschützen
DESCRIPTION:Generalversammlung\nKategorie: Jungschützen\nICS-Link: https://
 svpfungen.ch/index.php?option=com_jem&view=event&id=868:generalversammlung
 \n
DTSTART:20270219T200000
DTEND:20270219T200000
LOCATION:Schützenhaus Pfungen\,Grabistrasse\,8422 Pfungen\,Switzerland
SUMMARY:Generalversammlung
URL:https://svpfungen.ch/index.php?option=com_jem&view=event&id=868:general
 versammlung
END:VEVENT
END:VCALENDAR
