BEGIN:VCALENDAR
VERSION:2.0
PRODID:-//80.74.143.76//NONSGML kigkonsult.se iCalcreator 2.20//
CALSCALE:GREGORIAN
METHOD:PUBLISH
X-WR-TIMEZONE:Europe/Amsterdam
BEGIN:VEVENT
UID:event820@Schützenverein Pfungen
DTSTAMP:20260419T133647Z
CATEGORIES:Schützenverein
DESCRIPTION:5. Schiessübung\nKategorie: Schützenverein\nICS-Link: https://s
 vpfungen.ch/index.php?option=com_jem&view=event&id=820:5-schiessuebung\n
DTSTART:20260520T180000
DTEND:20260520T200000
LOCATION:Schützenhaus Pfungen\,Grabistrasse\,8422 Pfungen
SUMMARY:5. Schiessübung
URL:https://svpfungen.ch/index.php?option=com_jem&view=event&id=820:5-schie
 ssuebung
END:VEVENT
END:VCALENDAR
