BEGIN:VCALENDAR
VERSION:2.0
PRODID:-//80.74.143.76//NONSGML kigkonsult.se iCalcreator 2.20//
CALSCALE:GREGORIAN
METHOD:PUBLISH
X-WR-TIMEZONE:Europe/Amsterdam
BEGIN:VEVENT
UID:event665@Schützenverein Pfungen
DTSTAMP:20260419T162557Z
CATEGORIES:Schützenverein\, Jahres-Meisterschaft
DESCRIPTION:Stoss-Schiessen\nKategorie: Schützenverein\, Jahres-Meisterscha
 ft\nICS-Link: https://svpfungen.ch/index.php?option=com_jem&view=event&id=
 665:stoss-schiessen\n
DTSTART;VALUE=DATE:20250823
DTEND;VALUE=DATE:20250824
LOCATION:Feldstand Stoss\, Gais\,9056 Gais
SUMMARY:Stoss-Schiessen
URL:https://svpfungen.ch/index.php?option=com_jem&view=event&id=665:stoss-s
 chiessen
END:VEVENT
END:VCALENDAR
