BEGIN:VCALENDAR
VERSION:2.0
PRODID:-//80.74.143.76//NONSGML kigkonsult.se iCalcreator 2.20//
CALSCALE:GREGORIAN
METHOD:PUBLISH
X-WR-TIMEZONE:Europe/Amsterdam
BEGIN:VEVENT
UID:event542@Schützenverein Pfungen
DTSTAMP:20260419T192208Z
CATEGORIES:Jahres-Meisterschaft
DESCRIPTION:Guyer-Zellerschiessen Bäretswil\nKategorie: Jahres-Meisterschaf
 t\nICS-Link: https://svpfungen.ch/index.php?option=com_jem&view=event&id=5
 42:guyer-zellerschiessen-baeretswil\n
DTSTART:20241012T090000
DTEND:20241012T163000
LOCATION:Schützenhaus Bäretswil\,8344 Bäretswil
SUMMARY:Guyer-Zellerschiessen Bäretswil
URL:https://svpfungen.ch/index.php?option=com_jem&view=event&id=542:guyer-z
 ellerschiessen-baeretswil
END:VEVENT
END:VCALENDAR
