BEGIN:VCALENDAR
VERSION:2.0
PRODID:-//80.74.143.76//NONSGML kigkonsult.se iCalcreator 2.20//
CALSCALE:GREGORIAN
METHOD:PUBLISH
X-WR-TIMEZONE:Europe/Amsterdam
BEGIN:VEVENT
UID:event531@Schützenverein Pfungen
DTSTAMP:20260419T191935Z
CATEGORIES:Jahres-Meisterschaft
DESCRIPTION:1. Augustschiessen Kloten\nKategorie: Jahres-Meisterschaft\nICS
 -Link: https://svpfungen.ch/index.php?option=com_jem&view=event&id=531:1-a
 ugustschiessen-kloten\n
DTSTART:20240801T080000
DTEND:20240801T120000
LOCATION:Schützenhaus Bettensee Kloten\,Schützenhausweg\,8302 Kloten
SUMMARY:1. Augustschiessen Kloten
URL:https://svpfungen.ch/index.php?option=com_jem&view=event&id=531:1-augus
 tschiessen-kloten
END:VEVENT
END:VCALENDAR
