BEGIN:VCALENDAR
VERSION:2.0
PRODID:-//80.74.143.76//NONSGML kigkonsult.se iCalcreator 2.20//
CALSCALE:GREGORIAN
METHOD:PUBLISH
X-WR-TIMEZONE:Europe/Amsterdam
BEGIN:VEVENT
UID:event617@Schützenverein Pfungen
DTSTAMP:20260419T174903Z
CATEGORIES:Schützenverein
DESCRIPTION:Bezirks - Veteranenschiessen\nKategorie: Schützenverein\nICS-Li
 nk: https://svpfungen.ch/index.php?option=com_jem&view=event&id=617:bezirk
 s-veteranenschiessen\n
DTSTART:20250315T133000
DTEND:20250315T153000
LOCATION:Schützenhaus Rikon\,Im Lochfeld\,8486 Rikon
SUMMARY:Bezirks - Veteranenschiessen
URL:https://svpfungen.ch/index.php?option=com_jem&view=event&id=617:bezirks
 -veteranenschiessen
END:VEVENT
END:VCALENDAR
